BEGIN:VCALENDAR
BEGIN:VEVENT
SUMMARY:Funeral notice for CAMERON\, Duncan
DTSTART:20260415T000000
DTEND:20260416T000000
DTSTAMP:20260421T032621Z
UID:6353699
DESCRIPTION:For the Funeral time and location details\, please view the no
 tice on the My Tributes site. (https://www.kyfreepress.com.au/tributes/not
 ice/funeral-notices/cameron-duncan/6353699/)
END:VEVENT
END:VCALENDAR
