BEGIN:VCALENDAR
BEGIN:VEVENT
SUMMARY:Funeral notice for RICHARDSON CFC\, Brother Peter Julian Eymard
DTSTART:20260424T000000
DTEND:20260425T000000
DTSTAMP:20260423T044850Z
UID:6354239
DESCRIPTION:For the Funeral time and location details\, please view the no
 tice on the My Tributes site. (https://www.kyfreepress.com.au/tributes/not
 ice/funeral-notices/richardson-cfc-brother-peter-julian-eymard/6354239/)
END:VEVENT
END:VCALENDAR
