BEGIN:VCALENDAR
BEGIN:VEVENT
SUMMARY:Funeral notice for BELPERIO\, Luigi
DTSTART:20260422T000000
DTEND:20260423T000000
DTSTAMP:20260420T073305Z
UID:6354283
DESCRIPTION:For the Funeral time and location details\, please view the no
 tice on the My Tributes site. (https://www.kyfreepress.com.au/tributes/not
 ice/funeral-notices/belperio-luigi/6354283/)
END:VEVENT
END:VCALENDAR
