BEGIN:VCALENDAR
BEGIN:VEVENT
SUMMARY:Funeral notice for BARILE\, Nicolina
DTSTART:20260420T000000
DTEND:20260421T000000
DTSTAMP:20260420T165538Z
UID:6354308
DESCRIPTION:For the Funeral time and location details\, please view the no
 tice on the My Tributes site. (https://www.kyfreepress.com.au/tributes/not
 ice/funeral-notices/barile-nicolina/6354308/)
END:VEVENT
END:VCALENDAR
