BEGIN:VCALENDAR
BEGIN:VEVENT
SUMMARY:Funeral notice for CHOULARTON\, Esther Alice
DTSTART:20260424T000000
DTEND:20260425T000000
DTSTAMP:20260420T144439Z
UID:6354338
DESCRIPTION:For the Funeral time and location details\, please view the no
 tice on the My Tributes site. (https://www.kyfreepress.com.au/tributes/not
 ice/funeral-notices/choularton-esther-alice/6354338/)
END:VEVENT
END:VCALENDAR
