BEGIN:VCALENDAR
BEGIN:VEVENT
SUMMARY:Funeral notice for KEENIHAN\, Luke Thomas
DTSTART:20260420T000000
DTEND:20260421T000000
DTSTAMP:20260420T082814Z
UID:6354369
DESCRIPTION:For the Funeral time and location details\, please view the no
 tice on the My Tributes site. (https://www.kyfreepress.com.au/tributes/not
 ice/funeral-notices/keenihan-luke-thomas/6354369/)
END:VEVENT
END:VCALENDAR
