BEGIN:VCALENDAR
BEGIN:VEVENT
SUMMARY:Funeral notice for MULLER\, Wilfred John (Jack)
DTSTART:20260424T000000
DTEND:20260425T000000
DTSTAMP:20260423T003521Z
UID:6354418
DESCRIPTION:For the Funeral time and location details\, please view the no
 tice on the My Tributes site. (https://www.kyfreepress.com.au/tributes/not
 ice/funeral-notices/muller-wilfred-john-jack/6354418/)
END:VEVENT
END:VCALENDAR
