BEGIN:VCALENDAR
BEGIN:VEVENT
SUMMARY:Funeral notice for CLARKE\, Aileen Frances
DTSTART:20260424T000000
DTEND:20260425T000000
DTSTAMP:20260420T200320Z
UID:6354479
DESCRIPTION:For the Funeral time and location details\, please view the no
 tice on the My Tributes site. (https://www.kyfreepress.com.au/tributes/not
 ice/funeral-notices/clarke-aileen-frances/6354479/)
END:VEVENT
END:VCALENDAR
