BEGIN:VCALENDAR
BEGIN:VEVENT
SUMMARY:Funeral notice for CHRISTOPHER\, June Helen Nora
DTSTART:20260424T000000
DTEND:20260425T000000
DTSTAMP:20260423T194936Z
UID:6354487
DESCRIPTION:For the Funeral time and location details\, please view the no
 tice on the My Tributes site. (https://www.kyfreepress.com.au/tributes/not
 ice/funeral-notices/christopher-june-helen-nora/6354487/)
END:VEVENT
END:VCALENDAR
