BEGIN:VCALENDAR
BEGIN:VEVENT
SUMMARY:Funeral notice for CIVITANTE\, Mario
DTSTART:20260423T000000
DTEND:20260424T000000
DTSTAMP:20260420T033601Z
UID:6354548
DESCRIPTION:For the Funeral time and location details\, please view the no
 tice on the My Tributes site. (https://www.kyfreepress.com.au/tributes/not
 ice/funeral-notices/civitante-mario/6354548/)
END:VEVENT
END:VCALENDAR
