BEGIN:VCALENDAR
BEGIN:VEVENT
SUMMARY:Funeral notice for DAVIDSON\, Trevor Ian
DTSTART:20260421T000000
DTEND:20260422T000000
DTSTAMP:20260420T233213Z
UID:6354633
DESCRIPTION:For the Funeral time and location details\, please view the no
 tice on the My Tributes site. (https://www.kyfreepress.com.au/tributes/not
 ice/funeral-notices/davidson-trevor-ian/6354633/)
END:VEVENT
END:VCALENDAR
