BEGIN:VCALENDAR
BEGIN:VEVENT
SUMMARY:Funeral notice for KAYE\, Glenda Dawn
DTSTART:20260424T000000
DTEND:20260425T000000
DTSTAMP:20260422T215635Z
UID:6354635
DESCRIPTION:For the Funeral time and location details\, please view the no
 tice on the My Tributes site. (https://www.kyfreepress.com.au/tributes/not
 ice/funeral-notices/kaye-glenda-dawn/6354635/)
END:VEVENT
END:VCALENDAR
