BEGIN:VCALENDAR
BEGIN:VEVENT
SUMMARY:Funeral notice for ROMEO\, Rocco
DTSTART:20260421T000000
DTEND:20260422T000000
DTSTAMP:20260420T093913Z
UID:6354668
DESCRIPTION:For the Funeral time and location details\, please view the no
 tice on the My Tributes site. (https://www.kyfreepress.com.au/tributes/not
 ice/funeral-notices/romeo-rocco/6354668/)
END:VEVENT
END:VCALENDAR
