BEGIN:VCALENDAR
BEGIN:VEVENT
SUMMARY:Funeral notice for NYHUIS\, Harry
DTSTART:20260423T000000
DTEND:20260424T000000
DTSTAMP:20260420T202427Z
UID:6354694
DESCRIPTION:For the Funeral time and location details\, please view the no
 tice on the My Tributes site. (https://www.kyfreepress.com.au/tributes/not
 ice/funeral-notices/nyhuis-harry/6354694/)
END:VEVENT
END:VCALENDAR
