BEGIN:VCALENDAR
BEGIN:VEVENT
SUMMARY:Funeral notice for STEICKE\, Gladys Irene
DTSTART:20260421T000000
DTEND:20260422T000000
DTSTAMP:20260421T070944Z
UID:6354773
DESCRIPTION:For the Funeral time and location details\, please view the no
 tice on the My Tributes site. (https://www.kyfreepress.com.au/tributes/not
 ice/funeral-notices/steicke-gladys-irene/6354773/)
END:VEVENT
END:VCALENDAR
