BEGIN:VCALENDAR
BEGIN:VEVENT
SUMMARY:Funeral notice for MILLS\, Yvonne Mary
DTSTART:20260423T000000
DTEND:20260424T000000
DTSTAMP:20260420T130427Z
UID:6354857
DESCRIPTION:For the Funeral time and location details\, please view the no
 tice on the My Tributes site. (https://www.kyfreepress.com.au/tributes/not
 ice/funeral-notices/mills-yvonne-mary/6354857/)
END:VEVENT
END:VCALENDAR
