BEGIN:VCALENDAR
BEGIN:VEVENT
SUMMARY:Funeral notice for COMPAAN\, Dorothy May
DTSTART:20260423T000000
DTEND:20260424T000000
DTSTAMP:20260424T083459Z
UID:6354968
DESCRIPTION:For the Funeral time and location details\, please view the no
 tice on the My Tributes site. (https://www.kyfreepress.com.au/tributes/not
 ice/funeral-notices/compaan-dorothy-may/6354968/)
END:VEVENT
END:VCALENDAR
