BEGIN:VCALENDAR
BEGIN:VEVENT
SUMMARY:Funeral notice for GILMOUR\, Rhonda Anne
DTSTART:20260427T000000
DTEND:20260428T000000
DTSTAMP:20260424T182457Z
UID:6354970
DESCRIPTION:For the Funeral time and location details\, please view the no
 tice on the My Tributes site. (https://www.kyfreepress.com.au/tributes/not
 ice/funeral-notices/gilmour-rhonda-anne/6354970/)
END:VEVENT
END:VCALENDAR
