BEGIN:VCALENDAR
BEGIN:VEVENT
SUMMARY:Funeral notice for ZYLSTRA\, Frnciscus Johannes
DTSTART:20260427T000000
DTEND:20260428T000000
DTSTAMP:20260424T144334Z
UID:6355079
DESCRIPTION:For the Funeral time and location details\, please view the no
 tice on the My Tributes site. (https://www.kyfreepress.com.au/tributes/not
 ice/funeral-notices/zylstra-frnciscus-johannes/6355079/)
END:VEVENT
END:VCALENDAR
