BEGIN:VCALENDAR
BEGIN:VEVENT
SUMMARY:Funeral notice for BOER\, Gwenneth Adelaide
DTSTART:20260430T000000
DTEND:20260501T000000
DTSTAMP:20260426T055156Z
UID:6355150
DESCRIPTION:For the Funeral time and location details\, please view the no
 tice on the My Tributes site. (https://www.kyfreepress.com.au/tributes/not
 ice/funeral-notices/boer-gwenneth-adelaide/6355150/)
END:VEVENT
END:VCALENDAR
