BEGIN:VCALENDAR
BEGIN:VEVENT
SUMMARY:Funeral notice for CARLINO\, Giuseppe
DTSTART:20260424T000000
DTEND:20260425T000000
DTSTAMP:20260424T165717Z
UID:6355256
DESCRIPTION:For the Funeral time and location details\, please view the no
 tice on the My Tributes site. (https://www.kyfreepress.com.au/tributes/not
 ice/funeral-notices/carlino-giuseppe/6355256/)
END:VEVENT
END:VCALENDAR
