BEGIN:VCALENDAR
BEGIN:VEVENT
SUMMARY:Funeral notice for ZAPRIS\, Zoe
DTSTART:20260427T000000
DTEND:20260428T000000
DTSTAMP:20260425T122341Z
UID:6355471
DESCRIPTION:For the Funeral time and location details\, please view the no
 tice on the My Tributes site. (https://www.kyfreepress.com.au/tributes/not
 ice/funeral-notices/zapris-zoe/6355471/)
END:VEVENT
END:VCALENDAR
