BEGIN:VCALENDAR
BEGIN:VEVENT
SUMMARY:Funeral notice for TYERS\, Lorna Florence
DTSTART:20260429T000000
DTEND:20260430T000000
DTSTAMP:20260424T200808Z
UID:6355505
DESCRIPTION:For the Funeral time and location details\, please view the no
 tice on the My Tributes site. (https://www.kyfreepress.com.au/tributes/not
 ice/funeral-notices/tyers-lorna-florence/6355505/)
END:VEVENT
END:VCALENDAR
