BEGIN:VCALENDAR
BEGIN:VEVENT
SUMMARY:Funeral notice for WHITING\, James Francis
DTSTART:20260428T000000
DTEND:20260429T000000
DTSTAMP:20260426T040440Z
UID:6355579
DESCRIPTION:For the Funeral time and location details\, please view the no
 tice on the My Tributes site. (https://www.kyfreepress.com.au/tributes/not
 ice/funeral-notices/whiting-james-francis/6355579/)
END:VEVENT
END:VCALENDAR
