BEGIN:VCALENDAR
BEGIN:VEVENT
SUMMARY:Funeral notice for VERDIESEN\, Gerda
DTSTART:20260429T000000
DTEND:20260430T000000
DTSTAMP:20260426T052500Z
UID:6355616
DESCRIPTION:For the Funeral time and location details\, please view the no
 tice on the My Tributes site. (https://www.kyfreepress.com.au/tributes/not
 ice/funeral-notices/verdiesen-gerda/6355616/)
END:VEVENT
END:VCALENDAR
