BEGIN:VCALENDAR
BEGIN:VEVENT
SUMMARY:Funeral notice for WINSLETT\, Shirley May
DTSTART:20260501T000000
DTEND:20260502T000000
DTSTAMP:20260426T052304Z
UID:6355788
DESCRIPTION:For the Funeral time and location details\, please view the no
 tice on the My Tributes site. (https://www.kyfreepress.com.au/tributes/not
 ice/funeral-notices/winslett-shirley-may/6355788/)
END:VEVENT
END:VCALENDAR
